BEGIN:VCALENDAR
VERSION:2.0
PRODID:-//Best Practice - ECPv6.3.5//NONSGML v1.0//EN
CALSCALE:GREGORIAN
METHOD:PUBLISH
X-WR-CALNAME:Best Practice
X-ORIGINAL-URL:https://bestpra.net
X-WR-CALDESC:évènements pour Best Practice
REFRESH-INTERVAL;VALUE=DURATION:PT1H
X-Robots-Tag:noindex
X-PUBLISHED-TTL:PT1H
BEGIN:VTIMEZONE
TZID:Europe/Paris
BEGIN:DAYLIGHT
TZOFFSETFROM:+0100
TZOFFSETTO:+0200
TZNAME:CEST
DTSTART:20240331T010000
END:DAYLIGHT
BEGIN:STANDARD
TZOFFSETFROM:+0200
TZOFFSETTO:+0100
TZNAME:CET
DTSTART:20241027T010000
END:STANDARD
END:VTIMEZONE
BEGIN:VEVENT
DTSTART;VALUE=DATE:20240814
DTEND;VALUE=DATE:20240815
DTSTAMP:20260424T234352
CREATED:20240814T171713Z
LAST-MODIFIED:20240814T172137Z
UID:10000005-1723593600-1723679999@bestpra.net
SUMMARY:Formation réussie au Collège de Paris de Yaoundé !
DESCRIPTION:Formation réussie au Collège de Paris de Yaoundé !\nNous sommes fiers d’avoir pu partager notre expertise avec les cadres du Collège de Paris de Yaoundé lors de leur séminaire de formation. \nDurant cette journée riche en échanges\, nous avons abordé deux thèmes clés : \n– 8 techniques de la stratégie militaire pour booster vos hommes;\nNous avons transposer avec brio les meilleures pratiques issues du domaine militaire pour aider les participants à motiver et fédérer leurs équipes. Des outils concrets et éprouvés pour stimuler l’engagement et la performance. \n– Esprit d’équipe dans l’armée et esprit d’équipe en entreprise;\nAu-delà des différences de contexte\, les principes fondamentaux pour développer un esprit d’équipe sain et performant restent les mêmes. Les participants ont pu découvrir des méthodes inspirantes pour renforcer la cohésion et la synergie au sein de leurs propres équipes. \nMerci au Collège de Paris pour nous avoir fait confiance et à tous les participants pour leur implication ! \nRendez-vous bientôt pour de nouvelles formations enrichissantes. \n\n		\n		\n			\n				\n			\n			\n				\n			\n			\n				\n			\n			\n				\n			\n			\n				\n			\n			\n				\n			\n			\n				\n			\n			\n				\n			\n			\n				\n			\n			\n				\n			\n			\n				\n			\n			\n				\n			\n			\n				\n			\n			\n				\n			\n			\n				\n			\n			\n				\n			\n			\n				\n			\n			\n				\n			\n			\n				\n			\n			\n				\n			\n			\n				\n			\n			\n				\n			\n			\n				\n			\n			\n				\n			\n			\n				\n			\n			\n				\n			\n			\n				\n			\n			\n				\n			\n			\n				\n			\n			\n		\n\nNO LIMIT FOR US \n#Formation #StrategieMilitaire #EspritdEquipe #CollegedeParis #Yaoundé #Cameroun
URL:https://bestpra.net/event/formation-reussie-au-college-de-paris-de-yaounde/
CATEGORIES:Evénement
ATTACH;FMTTYPE=image/jpeg:https://bestpra.net/wp-content/uploads/2024/08/BEST-PRACTICE-COLLEGE-DE-PARIS-CAMEROUN-STRATEGIE-MILITAIRE-COLONEL-KUITCHE-ROGER-9.jpeg
ORGANIZER;CN="BEST PRACTICE":MAILTO:dekuitch@yahoo.fr
END:VEVENT
BEGIN:VEVENT
DTSTART;VALUE=DATE:20240812
DTEND;VALUE=DATE:20240814
DTSTAMP:20260424T234352
CREATED:20240814T162843Z
LAST-MODIFIED:20240814T162843Z
UID:10000004-1723420800-1723593599@bestpra.net
SUMMARY:LE CABINET BEST PRACTICE À CAMTEL
DESCRIPTION:LE CABINET BEST PRACTICE À CAMTEL\nLe lundi 12 au mardi 13 août 2024\, nous aurons le privilège de donner une formation sur la stratégie militaire appliquée aux entreprises et aux organisations. \nCette session qui sera l’occasion d’édifier les apprenants sur l’applicabilité des techniques et stratégies de guerre\,( entendue comme affrontement sanglant entre deux groupes ou plusieurs groupes dans lequel on cherche à détruire son adversaire\, dans la guerre économiques d’aujourd’hui\, où on ne cherche pas à détruire son adversaire\, mais à devancer ses concurrents\,) se tiendra au Centre de formation de CAMTEL à ZAMENGOE.
URL:https://bestpra.net/event/le-cabinet-best-practice-a-camtel/
LOCATION:Camtel\, Cameroun
CATEGORIES:Evénement
ATTACH;FMTTYPE=image/jpeg:https://bestpra.net/wp-content/uploads/2024/08/Formation-strategie-militaire-appliquee-aux-entreprises-BEST-PRACTICE.jpeg
ORGANIZER;CN="BEST PRACTICE":MAILTO:dekuitch@yahoo.fr
END:VEVENT
BEGIN:VEVENT
DTSTART;TZID=Europe/Paris:20240401T080000
DTEND;TZID=Europe/Paris:20240501T170000
DTSTAMP:20260424T234352
CREATED:20240311T112013Z
LAST-MODIFIED:20240311T152611Z
UID:10000001-1711958400-1714582800@bestpra.net
SUMMARY:Best Practice Labor Day
DESCRIPTION:📣 Découvrez le secret de l’efficacité en entreprise: la stratégie militaire! 💼⚔️ \n🎯 Vous désirez avoir des solutions pour optimiser vos performances professionnels? Ne cherchez plus ! Nos séminaires de formation sur la stratégie militaire appliquée aux entreprises sont conçus pour vous. \n✅ Apprenez à mobiliser vos ressources avec précision\, à anticiper les défis et à prendre des décisions stratégiques éclairées. Les concepts éprouvés sur les champs de bataille sont désormais à votre portée pour transformer vos tactiques en succès commerciaux. \nFaites l’expérience de l’agilité\, de la discipline et de la résilience qui caractérisent les forces armées et appliquez-les à votre environnement professionnel. Nous vous guiderons à travers des études de cas inspirantes et des exercices pratiques\, vous armant ainsi d’outils puissants pour atteindre vos objectifs. \nAu programme du séminaire de formation: \nLa gestion efficace des ressources\n\n		Venez découvrir comment les principes militaires de l’allocation des ressources peuvent optimiser votre productivité et maximiser vos résultats.\nVenez apprendre à identifier les priorités\, à gérer les contraintes et à tirer le meilleur parti de vos ressources disponibles 		 \nL’art de la planification stratégique \n		Prenez une longueur d’avance sur vos concurrents en apprenant à anticiper\, à évaluer les risques et à élaborer des plans d’action précis.\nVenez découvrir comment la stratégie militaire peut vous aider à attendre vos objectifs avec succès. 		 \nL’agilité face à l’incertitude \n		Dans un environnement commercial en constate évolution\, l’agilité est une compétence clé.\nVous devrez alors vous familiariser avec les techniques militaires d’adaptation rapide\, de prise de décision éclairée et de flexibilité stratégique pour rester en tête du jeu.		 \nLa puissance de la discipline\n\n		La rigueur militaire est un atout essentiel pour obtenir de résultats exceptionnels.\nExplorez comment la discipline peut transformer votre approche professionnelle et vous permettre de surmonter les obstacles avec détermination.		 \n08 techniques tirées de la stratégie militaire pour booster vos collaborateurs en temps de crise\n\n		Préparez-vous à vivre une expérience immersive inoubliable\, où vous serez entouré(e) d’entrepreneurs ambitieux\, assoiffés de succès et prêts à passer à la vitesse supérieure.\nSaisissez cette opportunité unique de créer votre avenir avec les principes de la stratégie militaire.\nDonnez un nouvel élan avec carrière et devenez le leader visionnaire am que vous avez toujours être!		 \nLa résilience en période de crise\n\n		Avec notre séminaire\, vous apprendrez des tactiques militaires pour faire face aux défis et aux situations de crise.\nVous découvrez comment comment renforcer votre résilience mentale\, maintenir la cohésion d’équipe et prendre des décisions éclairées lorsque la pression est maximale.
URL:https://bestpra.net/event/best-practice-labor-day/
LOCATION:Best Western Hôtel Douala et au siège de BEST PRACTICE à Dragage Yaoundé\, Yaoundé\, Cameroun
ORGANIZER;CN="BEST PRACTICE":MAILTO:dekuitch@yahoo.fr
END:VEVENT
END:VCALENDAR