BEGIN:VCALENDAR
VERSION:2.0
PRODID:-//Best Practice - ECPv6.3.5//NONSGML v1.0//EN
CALSCALE:GREGORIAN
METHOD:PUBLISH
X-WR-CALNAME:Best Practice
X-ORIGINAL-URL:https://bestpra.net
X-WR-CALDESC:évènements pour Best Practice
REFRESH-INTERVAL;VALUE=DURATION:PT1H
X-Robots-Tag:noindex
X-PUBLISHED-TTL:PT1H
BEGIN:VTIMEZONE
TZID:Europe/Paris
BEGIN:DAYLIGHT
TZOFFSETFROM:+0100
TZOFFSETTO:+0200
TZNAME:CEST
DTSTART:20240331T010000
END:DAYLIGHT
BEGIN:STANDARD
TZOFFSETFROM:+0200
TZOFFSETTO:+0100
TZNAME:CET
DTSTART:20241027T010000
END:STANDARD
END:VTIMEZONE
BEGIN:VEVENT
DTSTART;VALUE=DATE:20240812
DTEND;VALUE=DATE:20240814
DTSTAMP:20260424T235124
CREATED:20240814T162843Z
LAST-MODIFIED:20240814T162843Z
UID:10000004-1723420800-1723593599@bestpra.net
SUMMARY:LE CABINET BEST PRACTICE À CAMTEL
DESCRIPTION:LE CABINET BEST PRACTICE À CAMTEL\nLe lundi 12 au mardi 13 août 2024\, nous aurons le privilège de donner une formation sur la stratégie militaire appliquée aux entreprises et aux organisations. \nCette session qui sera l’occasion d’édifier les apprenants sur l’applicabilité des techniques et stratégies de guerre\,( entendue comme affrontement sanglant entre deux groupes ou plusieurs groupes dans lequel on cherche à détruire son adversaire\, dans la guerre économiques d’aujourd’hui\, où on ne cherche pas à détruire son adversaire\, mais à devancer ses concurrents\,) se tiendra au Centre de formation de CAMTEL à ZAMENGOE.
URL:https://bestpra.net/event/le-cabinet-best-practice-a-camtel/
LOCATION:Camtel\, Cameroun
CATEGORIES:Evénement
ATTACH;FMTTYPE=image/jpeg:https://bestpra.net/wp-content/uploads/2024/08/Formation-strategie-militaire-appliquee-aux-entreprises-BEST-PRACTICE.jpeg
ORGANIZER;CN="BEST PRACTICE":MAILTO:dekuitch@yahoo.fr
END:VEVENT
END:VCALENDAR